Package: prebs Version: 1.46.0 Command: rm -rf prebs.buildbin-libdir && mkdir prebs.buildbin-libdir && /Users/biocbuild/BBS/utils/build-universal.sh prebs_1.46.0.tar.gz /Library/Frameworks/R.framework/Resources/bin/R prebs.buildbin-libdir StartedAt: 2025-04-01 12:28:37 -0400 (Tue, 01 Apr 2025) EndedAt: 2025-04-01 12:29:48 -0400 (Tue, 01 Apr 2025) EllapsedTime: 71.1 seconds RetCode: 0 Status: OK PackageFile: prebs_1.46.0.tgz PackageFileSize: 412.8 KiB