Package: pram Version: 1.22.0 Command: /Library/Frameworks/R.framework/Resources/bin/R CMD build --keep-empty-dirs --no-resave-data pram StartedAt: 2025-03-31 21:05:36 -0400 (Mon, 31 Mar 2025) EndedAt: 2025-03-31 21:07:10 -0400 (Mon, 31 Mar 2025) EllapsedTime: 94.2 seconds RetCode: 0 Status: OK PackageFile: pram_1.22.0.tar.gz PackageFileSize: 2.666 MiB