Package: pqsfinder Version: 2.22.0 Command: /home/biocbuild/R/R/bin/R CMD INSTALL pqsfinder StartedAt: 2025-03-31 20:19:32 -0000 (Mon, 31 Mar 2025) EndedAt: 2025-03-31 20:20:34 -0000 (Mon, 31 Mar 2025) EllapsedTime: 61.5 seconds RetCode: 0 Status: OK