Package: pqsfinder Version: 2.22.0 Command: rm -rf pqsfinder.buildbin-libdir && mkdir pqsfinder.buildbin-libdir && F:\biocbuild\bbs-3.20-bioc\R\bin\R.exe CMD INSTALL --build --library=pqsfinder.buildbin-libdir pqsfinder_2.22.0.tar.gz StartedAt: 2025-04-01 08:53:58 -0400 (Tue, 01 Apr 2025) EndedAt: 2025-04-01 08:55:14 -0400 (Tue, 01 Apr 2025) EllapsedTime: 76.1 seconds RetCode: 0 Status: OK PackageFile: pqsfinder_2.22.0.zip PackageFileSize: 1.233 MiB