Package: ppcseq Version: 1.14.0 Command: /home/biocbuild/R/R/bin/R CMD check --install=check:ppcseq.install-out.txt --library=/home/biocbuild/R/R/site-library --no-vignettes --timings ppcseq_1.14.0.tar.gz StartedAt: 2025-04-01 09:31:02 -0000 (Tue, 01 Apr 2025) EndedAt: 2025-04-01 09:35:17 -0000 (Tue, 01 Apr 2025) EllapsedTime: 255.3 seconds RetCode: 0 Status: WARNINGS CheckDir: ppcseq.Rcheck Warnings: 1