Package: ppcseq Version: 1.14.0 Command: /Library/Frameworks/R.framework/Resources/bin/R CMD build --keep-empty-dirs --no-resave-data ppcseq StartedAt: 2025-03-31 21:05:32 -0400 (Mon, 31 Mar 2025) EndedAt: 2025-03-31 21:09:34 -0400 (Mon, 31 Mar 2025) EllapsedTime: 242.5 seconds RetCode: 0 Status: OK PackageFile: ppcseq_1.14.0.tar.gz PackageFileSize: 1.939 MiB