Package: ppcseq Version: 1.14.0 Command: /Library/Frameworks/R.framework/Resources/bin/R CMD INSTALL ppcseq StartedAt: 2025-03-31 15:36:17 -0400 (Mon, 31 Mar 2025) EndedAt: 2025-03-31 15:38:09 -0400 (Mon, 31 Mar 2025) EllapsedTime: 112.4 seconds RetCode: 0 Status: OK