Package: ppcseq Version: 1.14.0 Command: /Library/Frameworks/R.framework/Resources/bin/R CMD check --install=check:ppcseq.install-out.txt --library=/Library/Frameworks/R.framework/Resources/library --no-vignettes --timings ppcseq_1.14.0.tar.gz StartedAt: 2025-04-02 04:31:41 -0400 (Wed, 02 Apr 2025) EndedAt: 2025-04-02 04:33:33 -0400 (Wed, 02 Apr 2025) EllapsedTime: 112.3 seconds RetCode: 0 Status: OK CheckDir: ppcseq.Rcheck Warnings: 0