Package: ppcseq Version: 1.14.0 Command: rm -rf ppcseq.buildbin-libdir && mkdir ppcseq.buildbin-libdir && /Users/biocbuild/BBS/utils/build-universal.sh ppcseq_1.14.0.tar.gz /Library/Frameworks/R.framework/Resources/bin/R ppcseq.buildbin-libdir StartedAt: 2025-04-02 15:40:13 -0400 (Wed, 02 Apr 2025) EndedAt: 2025-04-02 15:42:27 -0400 (Wed, 02 Apr 2025) EllapsedTime: 134.4 seconds RetCode: 0 Status: OK PackageFile: ppcseq_1.14.0.tgz PackageFileSize: 2.57 MiB