Package: powerTCR Version: 1.26.0 Command: F:\biocbuild\bbs-3.20-bioc\R\bin\R.exe CMD INSTALL powerTCR StartedAt: 2025-03-31 15:31:18 -0400 (Mon, 31 Mar 2025) EndedAt: 2025-03-31 15:31:47 -0400 (Mon, 31 Mar 2025) EllapsedTime: 29.8 seconds RetCode: 0 Status: OK