Package: podkat Version: 1.38.0 Command: /home/biocbuild/bbs-3.20-bioc/R/bin/R CMD INSTALL podkat StartedAt: 2025-03-31 15:26:55 -0400 (Mon, 31 Mar 2025) EndedAt: 2025-03-31 15:28:06 -0400 (Mon, 31 Mar 2025) EllapsedTime: 71.5 seconds RetCode: 0 Status: OK