Package: podkat Version: 1.38.0 Command: /home/biocbuild/bbs-3.20-bioc/R/bin/R CMD check --install=check:podkat.install-out.txt --library=/home/biocbuild/bbs-3.20-bioc/R/site-library --timings podkat_1.38.0.tar.gz StartedAt: 2025-04-01 01:02:23 -0400 (Tue, 01 Apr 2025) EndedAt: 2025-04-01 01:08:40 -0400 (Tue, 01 Apr 2025) EllapsedTime: 377.4 seconds RetCode: 0 Status: OK CheckDir: podkat.Rcheck Warnings: 0