Package: podkat Version: 1.38.0 Command: /Library/Frameworks/R.framework/Resources/bin/R CMD build --keep-empty-dirs --no-resave-data podkat StartedAt: 2025-03-31 21:03:51 -0400 (Mon, 31 Mar 2025) EndedAt: 2025-03-31 21:09:02 -0400 (Mon, 31 Mar 2025) EllapsedTime: 311.2 seconds RetCode: 0 Status: OK PackageFile: podkat_1.38.0.tar.gz PackageFileSize: 1.09 MiB