Package: pmp Version: 1.18.0 Command: rm -rf pmp.buildbin-libdir && mkdir pmp.buildbin-libdir && /Users/biocbuild/BBS/utils/build-universal.sh pmp_1.18.0.tar.gz /Library/Frameworks/R.framework/Resources/bin/R pmp.buildbin-libdir StartedAt: 2025-04-01 12:28:14 -0400 (Tue, 01 Apr 2025) EndedAt: 2025-04-01 12:29:08 -0400 (Tue, 01 Apr 2025) EllapsedTime: 53.4 seconds RetCode: 0 Status: OK PackageFile: pmp_1.18.0.tgz PackageFileSize: 5.43 MiB