Package: pmp Version: 1.18.0 Command: /Library/Frameworks/R.framework/Resources/bin/R CMD INSTALL pmp StartedAt: 2025-03-31 16:32:55 -0400 (Mon, 31 Mar 2025) EndedAt: 2025-03-31 16:33:10 -0400 (Mon, 31 Mar 2025) EllapsedTime: 15.3 seconds RetCode: 0 Status: OK