Package: pmp Version: 1.18.0 Command: rm -rf pmp.buildbin-libdir && mkdir pmp.buildbin-libdir && /Users/biocbuild/BBS/utils/build-universal.sh pmp_1.18.0.tar.gz /Library/Frameworks/R.framework/Resources/bin/R pmp.buildbin-libdir StartedAt: 2025-04-02 15:39:41 -0400 (Wed, 02 Apr 2025) EndedAt: 2025-04-02 15:40:13 -0400 (Wed, 02 Apr 2025) EllapsedTime: 31.8 seconds RetCode: 0 Status: OK PackageFile: pmp_1.18.0.tgz PackageFileSize: 5.434 MiB