Package: plyxp Version: 1.0.1 Command: /home/biocbuild/bbs-3.20-bioc/R/bin/R CMD check --install=check:plyxp.install-out.txt --library=/home/biocbuild/bbs-3.20-bioc/R/site-library --timings plyxp_1.0.1.tar.gz StartedAt: 2025-04-01 01:02:05 -0400 (Tue, 01 Apr 2025) EndedAt: 2025-04-01 01:05:11 -0400 (Tue, 01 Apr 2025) EllapsedTime: 186.2 seconds RetCode: 0 Status: OK CheckDir: plyxp.Rcheck Warnings: 0