Package: plyxp Version: 1.0.1 Command: /Library/Frameworks/R.framework/Resources/bin/R CMD INSTALL plyxp StartedAt: 2025-03-31 15:24:09 -0400 (Mon, 31 Mar 2025) EndedAt: 2025-03-31 15:24:45 -0400 (Mon, 31 Mar 2025) EllapsedTime: 36.0 seconds RetCode: 0 Status: OK