Package: plyxp Version: 1.0.1 Command: /Library/Frameworks/R.framework/Resources/bin/R CMD check --install=check:plyxp.install-out.txt --library=/Library/Frameworks/R.framework/Resources/library --no-vignettes --timings plyxp_1.0.1.tar.gz StartedAt: 2025-04-02 04:23:54 -0400 (Wed, 02 Apr 2025) EndedAt: 2025-04-02 04:27:14 -0400 (Wed, 02 Apr 2025) EllapsedTime: 199.7 seconds RetCode: 0 Status: OK CheckDir: plyxp.Rcheck Warnings: 0