Package: plyxp Version: 1.0.1 Command: /Library/Frameworks/R.framework/Resources/bin/R CMD build --keep-empty-dirs --no-resave-data plyxp StartedAt: 2025-04-01 05:14:51 -0400 (Tue, 01 Apr 2025) EndedAt: 2025-04-01 05:15:50 -0400 (Tue, 01 Apr 2025) EllapsedTime: 59.0 seconds RetCode: 0 Status: OK PackageFile: plyxp_1.0.1.tar.gz PackageFileSize: 1.178 MiB