Package: plyranges Version: 1.26.0 Command: /Library/Frameworks/R.framework/Resources/bin/R CMD build --keep-empty-dirs --no-resave-data plyranges StartedAt: 2025-04-01 05:14:27 -0400 (Tue, 01 Apr 2025) EndedAt: 2025-04-01 05:15:33 -0400 (Tue, 01 Apr 2025) EllapsedTime: 66.4 seconds RetCode: 0 Status: OK PackageFile: plyranges_1.26.0.tar.gz PackageFileSize: 1.24 MiB