Package: plyranges Version: 1.26.0 Command: rm -rf plyranges.buildbin-libdir && mkdir plyranges.buildbin-libdir && /Users/biocbuild/BBS/utils/build-universal.sh plyranges_1.26.0.tar.gz /Library/Frameworks/R.framework/Resources/bin/R plyranges.buildbin-libdir StartedAt: 2025-04-02 15:39:16 -0400 (Wed, 02 Apr 2025) EndedAt: 2025-04-02 15:40:03 -0400 (Wed, 02 Apr 2025) EllapsedTime: 46.5 seconds RetCode: 0 Status: OK PackageFile: plyranges_1.26.0.tgz PackageFileSize: 1.545 MiB