Package: plyinteractions Version: 1.4.0 Command: /home/biocbuild/R/R/bin/R CMD check --install=check:plyinteractions.install-out.txt --library=/home/biocbuild/R/R/site-library --no-vignettes --timings plyinteractions_1.4.0.tar.gz StartedAt: 2025-04-01 09:28:46 -0000 (Tue, 01 Apr 2025) EndedAt: 2025-04-01 09:34:21 -0000 (Tue, 01 Apr 2025) EllapsedTime: 334.4 seconds RetCode: 0 Status: OK CheckDir: plyinteractions.Rcheck Warnings: 0