Package: plyinteractions Version: 1.4.0 Command: /home/biocbuild/bbs-3.20-bioc/R/bin/R CMD check --install=check:plyinteractions.install-out.txt --library=/home/biocbuild/bbs-3.20-bioc/R/site-library --timings plyinteractions_1.4.0.tar.gz StartedAt: 2025-04-01 01:02:04 -0400 (Tue, 01 Apr 2025) EndedAt: 2025-04-01 01:17:34 -0400 (Tue, 01 Apr 2025) EllapsedTime: 929.9 seconds RetCode: 0 Status: OK CheckDir: plyinteractions.Rcheck Warnings: 0