Package: plyinteractions Version: 1.4.0 Command: /Library/Frameworks/R.framework/Resources/bin/R CMD check --install=check:plyinteractions.install-out.txt --library=/Library/Frameworks/R.framework/Resources/library --no-vignettes --timings plyinteractions_1.4.0.tar.gz StartedAt: 2025-04-01 07:15:35 -0400 (Tue, 01 Apr 2025) EndedAt: 2025-04-01 07:25:09 -0400 (Tue, 01 Apr 2025) EllapsedTime: 574.7 seconds RetCode: 0 Status: OK CheckDir: plyinteractions.Rcheck Warnings: 0