Package: plyinteractions Version: 1.4.0 Command: /Library/Frameworks/R.framework/Resources/bin/R CMD build --keep-empty-dirs --no-resave-data plyinteractions StartedAt: 2025-04-01 05:13:30 -0400 (Tue, 01 Apr 2025) EndedAt: 2025-04-01 05:21:26 -0400 (Tue, 01 Apr 2025) EllapsedTime: 476.0 seconds RetCode: 0 Status: OK PackageFile: plyinteractions_1.4.0.tar.gz PackageFileSize: 3.749 MiB