Package: plotgardener Version: 1.12.0 Command: /home/biocbuild/R/R/bin/R CMD INSTALL plotgardener StartedAt: 2025-03-31 20:36:10 -0000 (Mon, 31 Mar 2025) EndedAt: 2025-03-31 20:37:14 -0000 (Mon, 31 Mar 2025) EllapsedTime: 64.4 seconds RetCode: 0 Status: OK