Package: plotGrouper Version: 1.24.0 Command: /home/biocbuild/R/R/bin/R CMD check --install=check:plotGrouper.install-out.txt --library=/home/biocbuild/R/R/site-library --no-vignettes --timings plotGrouper_1.24.0.tar.gz StartedAt: 2025-04-01 09:28:33 -0000 (Tue, 01 Apr 2025) EndedAt: 2025-04-01 09:29:28 -0000 (Tue, 01 Apr 2025) EllapsedTime: 55.1 seconds RetCode: 0 Status: OK CheckDir: plotGrouper.Rcheck Warnings: 0