Package: plgem Version: 1.78.0 Command: /home/biocbuild/R/R/bin/R CMD build --keep-empty-dirs --no-resave-data plgem StartedAt: 2025-04-01 01:36:39 -0000 (Tue, 01 Apr 2025) EndedAt: 2025-04-01 01:36:57 -0000 (Tue, 01 Apr 2025) EllapsedTime: 18.0 seconds RetCode: 0 Status: OK PackageFile: plgem_1.78.0.tar.gz PackageFileSize: 1.03 MiB