Package: plgem Version: 1.78.0 Command: /Library/Frameworks/R.framework/Resources/bin/R CMD check --install=check:plgem.install-out.txt --library=/Library/Frameworks/R.framework/Resources/library --no-vignettes --timings plgem_1.78.0.tar.gz StartedAt: 2025-04-01 07:14:09 -0400 (Tue, 01 Apr 2025) EndedAt: 2025-04-01 07:15:41 -0400 (Tue, 01 Apr 2025) EllapsedTime: 92.5 seconds RetCode: 0 Status: OK CheckDir: plgem.Rcheck Warnings: 0