Package: plgem Version: 1.78.0 Command: rm -rf plgem.buildbin-libdir && mkdir plgem.buildbin-libdir && /Users/biocbuild/BBS/utils/build-universal.sh plgem_1.78.0.tar.gz /Library/Frameworks/R.framework/Resources/bin/R plgem.buildbin-libdir StartedAt: 2025-04-01 12:27:56 -0400 (Tue, 01 Apr 2025) EndedAt: 2025-04-01 12:28:05 -0400 (Tue, 01 Apr 2025) EllapsedTime: 8.6 seconds RetCode: 0 Status: OK PackageFile: plgem_1.78.0.tgz PackageFileSize: 1.118 MiB