Package: planttfhunter Version: 1.6.0 Command: /home/biocbuild/R/R/bin/R CMD INSTALL planttfhunter StartedAt: 2025-03-31 20:21:22 -0000 (Mon, 31 Mar 2025) EndedAt: 2025-03-31 20:21:51 -0000 (Mon, 31 Mar 2025) EllapsedTime: 28.4 seconds RetCode: 0 Status: OK