Package: planttfhunter Version: 1.6.0 Command: /home/biocbuild/bbs-3.20-bioc/R/bin/R CMD check --install=check:planttfhunter.install-out.txt --library=/home/biocbuild/bbs-3.20-bioc/R/site-library --timings planttfhunter_1.6.0.tar.gz StartedAt: 2025-04-01 01:01:10 -0400 (Tue, 01 Apr 2025) EndedAt: 2025-04-01 01:03:53 -0400 (Tue, 01 Apr 2025) EllapsedTime: 163.2 seconds RetCode: 0 Status: OK CheckDir: planttfhunter.Rcheck Warnings: 0