Package: planttfhunter Version: 1.6.0 Command: /Library/Frameworks/R.framework/Resources/bin/R CMD INSTALL planttfhunter StartedAt: 2025-03-31 15:24:35 -0400 (Mon, 31 Mar 2025) EndedAt: 2025-03-31 15:25:01 -0400 (Mon, 31 Mar 2025) EllapsedTime: 26.0 seconds RetCode: 0 Status: OK