Package: planet Version: 1.14.0 Command: /home/biocbuild/R/R/bin/R CMD INSTALL planet StartedAt: 2025-03-31 20:15:18 -0000 (Mon, 31 Mar 2025) EndedAt: 2025-03-31 20:15:33 -0000 (Mon, 31 Mar 2025) EllapsedTime: 15.1 seconds RetCode: 0 Status: OK