Package: planet Version: 1.14.0 Command: /Library/Frameworks/R.framework/Resources/bin/R CMD build --keep-empty-dirs --no-resave-data planet StartedAt: 2025-03-31 21:02:26 -0400 (Mon, 31 Mar 2025) EndedAt: 2025-03-31 21:03:28 -0400 (Mon, 31 Mar 2025) EllapsedTime: 61.3 seconds RetCode: 0 Status: OK PackageFile: planet_1.14.0.tar.gz PackageFileSize: 2.791 MiB