Package: planet Version: 1.14.0 Command: /Library/Frameworks/R.framework/Resources/bin/R CMD INSTALL planet StartedAt: 2025-03-31 15:13:38 -0400 (Mon, 31 Mar 2025) EndedAt: 2025-03-31 15:13:42 -0400 (Mon, 31 Mar 2025) EllapsedTime: 3.7 seconds RetCode: 0 Status: OK