Package: planet Version: 1.14.0 Command: /Library/Frameworks/R.framework/Resources/bin/R CMD build --keep-empty-dirs --no-resave-data planet StartedAt: 2025-04-01 05:12:06 -0400 (Tue, 01 Apr 2025) EndedAt: 2025-04-01 05:12:41 -0400 (Tue, 01 Apr 2025) EllapsedTime: 35.0 seconds RetCode: 0 Status: OK PackageFile: planet_1.14.0.tar.gz PackageFileSize: 2.791 MiB