Package: pipeFrame Version: 1.22.0 Command: F:\biocbuild\bbs-3.20-bioc\R\bin\R.exe CMD check --no-multiarch --install=check:pipeFrame.install-out.txt --library=F:\biocbuild\bbs-3.20-bioc\R\library --no-vignettes --timings pipeFrame_1.22.0.tar.gz StartedAt: 2025-04-01 04:36:36 -0400 (Tue, 01 Apr 2025) EndedAt: 2025-04-01 04:41:23 -0400 (Tue, 01 Apr 2025) EllapsedTime: 287.5 seconds RetCode: 0 Status: OK CheckDir: pipeFrame.Rcheck Warnings: 0