Package: pipeFrame Version: 1.22.0 Command: /Library/Frameworks/R.framework/Resources/bin/R CMD INSTALL pipeFrame StartedAt: 2025-03-31 15:49:24 -0400 (Mon, 31 Mar 2025) EndedAt: 2025-03-31 15:50:32 -0400 (Mon, 31 Mar 2025) EllapsedTime: 68.4 seconds RetCode: 0 Status: OK