Package: pipeFrame Version: 1.22.0 Command: /Library/Frameworks/R.framework/Resources/bin/R CMD check --install=check:pipeFrame.install-out.txt --library=/Library/Frameworks/R.framework/Resources/library --no-vignettes --timings pipeFrame_1.22.0.tar.gz StartedAt: 2025-04-01 07:11:01 -0400 (Tue, 01 Apr 2025) EndedAt: 2025-04-01 07:19:38 -0400 (Tue, 01 Apr 2025) EllapsedTime: 516.9 seconds RetCode: 0 Status: OK CheckDir: pipeFrame.Rcheck Warnings: 0