Package: pipeFrame Version: 1.22.0 Command: /Library/Frameworks/R.framework/Resources/bin/R CMD build --keep-empty-dirs --no-resave-data pipeFrame StartedAt: 2025-03-31 21:02:04 -0400 (Mon, 31 Mar 2025) EndedAt: 2025-03-31 21:04:08 -0400 (Mon, 31 Mar 2025) EllapsedTime: 123.7 seconds RetCode: 0 Status: OK PackageFile: pipeFrame_1.22.0.tar.gz PackageFileSize: 1.195 MiB