Package: pipeFrame Version: 1.22.0 Command: rm -rf pipeFrame.buildbin-libdir && mkdir pipeFrame.buildbin-libdir && /Users/biocbuild/BBS/utils/build-universal.sh pipeFrame_1.22.0.tar.gz /Library/Frameworks/R.framework/Resources/bin/R pipeFrame.buildbin-libdir StartedAt: 2025-04-01 12:27:28 -0400 (Tue, 01 Apr 2025) EndedAt: 2025-04-01 12:28:38 -0400 (Tue, 01 Apr 2025) EllapsedTime: 70.4 seconds RetCode: 0 Status: OK PackageFile: pipeFrame_1.22.0.tgz PackageFileSize: 1.079 MiB