Package: pipeComp Version: 1.16.0 Command: /Library/Frameworks/R.framework/Resources/bin/R CMD INSTALL pipeComp StartedAt: 2025-03-31 16:29:16 -0400 (Mon, 31 Mar 2025) EndedAt: 2025-03-31 16:31:20 -0400 (Mon, 31 Mar 2025) EllapsedTime: 124.1 seconds RetCode: 0 Status: OK