Package: pipeComp Version: 1.16.0 Command: rm -rf pipeComp.buildbin-libdir && mkdir pipeComp.buildbin-libdir && /Users/biocbuild/BBS/utils/build-universal.sh pipeComp_1.16.0.tar.gz /Library/Frameworks/R.framework/Resources/bin/R pipeComp.buildbin-libdir StartedAt: 2025-04-01 12:27:28 -0400 (Tue, 01 Apr 2025) EndedAt: 2025-04-01 12:29:36 -0400 (Tue, 01 Apr 2025) EllapsedTime: 128.6 seconds RetCode: 0 Status: OK PackageFile: pipeComp_1.16.0.tgz PackageFileSize: 4.509 MiB