Package: pipeComp Version: 1.16.0 Command: /Library/Frameworks/R.framework/Resources/bin/R CMD INSTALL pipeComp StartedAt: 2025-03-31 17:52:37 -0400 (Mon, 31 Mar 2025) EndedAt: 2025-03-31 17:53:44 -0400 (Mon, 31 Mar 2025) EllapsedTime: 67.5 seconds RetCode: 0 Status: OK