Package: phyloseq Version: 1.50.0 Command: /home/biocbuild/R/R/bin/R CMD INSTALL phyloseq StartedAt: 2025-03-31 20:57:27 -0000 (Mon, 31 Mar 2025) EndedAt: 2025-03-31 20:58:02 -0000 (Mon, 31 Mar 2025) EllapsedTime: 34.5 seconds RetCode: 0 Status: OK