Package: phyloseq Version: 1.50.0 Command: /home/biocbuild/R/R/bin/R CMD check --install=check:phyloseq.install-out.txt --library=/home/biocbuild/R/R/site-library --no-vignettes --timings phyloseq_1.50.0.tar.gz StartedAt: 2025-04-01 09:25:11 -0000 (Tue, 01 Apr 2025) EndedAt: 2025-04-01 09:30:16 -0000 (Tue, 01 Apr 2025) EllapsedTime: 304.4 seconds RetCode: 0 Status: WARNINGS CheckDir: phyloseq.Rcheck Warnings: 1