Package: philr Version: 1.32.0 Command: chmod a+r philr -R && F:\biocbuild\bbs-3.20-bioc\R\bin\R.exe CMD build --keep-empty-dirs --no-resave-data philr StartedAt: 2025-03-31 21:00:36 -0400 (Mon, 31 Mar 2025) EndedAt: 2025-03-31 21:01:33 -0400 (Mon, 31 Mar 2025) EllapsedTime: 57.3 seconds RetCode: 0 Status: OK PackageFile: philr_1.32.0.tar.gz PackageFileSize: 324.3 KiB