Package: philr Version: 1.32.0 Command: /Library/Frameworks/R.framework/Resources/bin/R CMD build --keep-empty-dirs --no-resave-data philr StartedAt: 2025-03-31 21:00:19 -0400 (Mon, 31 Mar 2025) EndedAt: 2025-03-31 21:01:47 -0400 (Mon, 31 Mar 2025) EllapsedTime: 88.2 seconds RetCode: 0 Status: OK PackageFile: philr_1.32.0.tar.gz PackageFileSize: 520.7 KiB